BEGIN:VCALENDAR
VERSION:2.0
PRODID:Carson City Calendar Creator
METHOD:PUBLISH
BEGIN:VEVENT
DTSTAMP:20240116T161944
DTSTART:20240809T183000
DTEND:20240809T210000
SUMMARY:Advisory Board to Manage Wildlife
DESCRIPTION:<a href="https://www.carsoncity.gov/government/city-meetings">Webcast and Agenda with Supporting Materials</a>
X-ALT-DESC;FMTTYPE=text/html:<a href="https://www.carsoncity.gov/government/city-meetings">Webcast and Agenda with Supporting Materials</a>
LOCATION:Community Center\, Robert "Bob" Crowell Board Room\, 851 East William Street Carson City\, Nevada 89701
CLASS:PUBLIC
END:VEVENT
END:VCALENDAR
