BEGIN:VCALENDAR
VERSION:2.0
PRODID:Carson City Calendar Creator
METHOD:PUBLISH
BEGIN:VEVENT
DTSTAMP:20241113T082758
DTSTART:20241112T173000
DTEND:20241112T203000
SUMMARY:Advisory Board to Manage Wildlife
DESCRIPTION:<p><a href="https://www.carsoncity.gov/government/city-meetings">Webcast and Agenda with Supporting Materials</a></p><p><a href="https://www.carsoncity.gov/home/showpublisheddocument/90405/638670832665970000" target="_blank">11-12-24 Advisory Board to Manage Wildlife Agenda</a></p>
X-ALT-DESC;FMTTYPE=text/html:<p><a href="https://www.carsoncity.gov/government/city-meetings">Webcast and Agenda with Supporting Materials</a></p><p><a href="https://www.carsoncity.gov/home/showpublisheddocument/90405/638670832665970000" target="_blank">11-12-24 Advisory Board to Manage Wildlife Agenda</a></p>
LOCATION:Community Center Bonanza Room\, 851 East William Street Carson City\, Nevada 89701
CLASS:PUBLIC
END:VEVENT
END:VCALENDAR
