BEGIN:VCALENDAR
VERSION:2.0
PRODID:Carson City Calendar Creator
METHOD:PUBLISH
BEGIN:VEVENT
DTSTAMP:20240103T155706
DTSTART:20240109T133000
DTEND:20240109T235900
SUMMARY:Audit Committee Meeting
DESCRIPTION:<a href="https://www.carsoncity.gov/government/city-meetings">Webcast and Agenda w/Supporting Materials</a>
X-ALT-DESC;FMTTYPE=text/html:<a href="https://www.carsoncity.gov/government/city-meetings">Webcast and Agenda w/Supporting Materials</a>
LOCATION:Community Center\, Robert "Bob" Crowell Board Room\, 851 East William Street Carson City\, Nevada 89701
CLASS:PUBLIC
END:VEVENT
END:VCALENDAR
