BEGIN:VCALENDAR
VERSION:2.0
PRODID:Carson City Calendar Creator
METHOD:PUBLISH
BEGIN:VEVENT
DTSTAMP:20240307T161517
DTSTART:20240313T163000
DTEND:20240313T190000
SUMMARY:Carson Area Metropolitan Planning Organization
DESCRIPTION:<p><a href="https://granicus_production_attachments.s3.amazonaws.com/carsoncity/dde5e4c6724427f0d7763888d35246f50.pdf" target="_blank">CAMPO Agenda with Supporting Materials</a></p><p data-uw-styling-context="true"><a href="https://www.carsoncity.gov/government/city-meetings" data-uw-styling-context="true">Livestream</a></p>
X-ALT-DESC;FMTTYPE=text/html:<p><a href="https://granicus_production_attachments.s3.amazonaws.com/carsoncity/dde5e4c6724427f0d7763888d35246f50.pdf" target="_blank">CAMPO Agenda with Supporting Materials</a></p><p data-uw-styling-context="true"><a href="https://www.carsoncity.gov/government/city-meetings" data-uw-styling-context="true">Livestream</a></p>
LOCATION:Community Center\, Robert "Bob" Crowell Board Room\, 851 East William Street Carson City\, Nevada 89701
CLASS:PUBLIC
END:VEVENT
END:VCALENDAR
