BEGIN:VCALENDAR
VERSION:2.0
PRODID:Carson City Calendar Creator
METHOD:PUBLISH
BEGIN:VEVENT
DTSTAMP:20240410T093752
DTSTART:20240416T083000
DTEND:20240416T093000
SUMMARY:9-1-1 Surcharge Advisory Committee
DESCRIPTION:<a href="https://www.carsoncity.gov/home/showpublisheddocument/88851/638483383420200000" target="_blank">911 Agenda 04.16.24</a>
X-ALT-DESC;FMTTYPE=text/html:<a href="https://www.carsoncity.gov/home/showpublisheddocument/88851/638483383420200000" target="_blank">911 Agenda 04.16.24</a>
LOCATION:Carson City Fire Department\, 777 S Stewart St. Carson City\, Nevada 89701
CLASS:PUBLIC
END:VEVENT
END:VCALENDAR
