BEGIN:VCALENDAR
VERSION:2.0
PRODID:Carson City Calendar Creator
METHOD:PUBLISH
BEGIN:VEVENT
DTSTAMP:20240605T160048
DTSTART:20240611T133000
DTEND:20240611T143000
SUMMARY:Local Emergency Planning Committee
DESCRIPTION:<a href="https://www.carsoncity.gov/home/showpublisheddocument/89479/638531999349870000" target="_blank">LEPC Agenda 06.11.24</a>
X-ALT-DESC;FMTTYPE=text/html:<a href="https://www.carsoncity.gov/home/showpublisheddocument/89479/638531999349870000" target="_blank">LEPC Agenda 06.11.24</a>
LOCATION:Carson City Fire Department\, 777 S Stewart St. Carson City\, Nevada 89701
CLASS:PUBLIC
END:VEVENT
END:VCALENDAR
