BEGIN:VCALENDAR
VERSION:2.0
PRODID:Carson City Calendar Creator
METHOD:PUBLISH
BEGIN:VEVENT
DTSTAMP:20240124T131749
DTSTART:20240131T143000
DTEND:20240131T235900
SUMMARY:Joint Meeting of the Board of Supervisors and the Planning Commission
DESCRIPTION:<a href="https://www.carsoncity.gov/government/city-meetings">Live Broadcast and Agenda with Supporting Materials</a>
X-ALT-DESC;FMTTYPE=text/html:<a href="https://www.carsoncity.gov/government/city-meetings">Live Broadcast and Agenda with Supporting Materials</a>
LOCATION:Community Center\, Robert "Bob" Crowell Board Room\, 851 East William Street Carson City\, Nevada 89701
CLASS:PUBLIC
END:VEVENT
END:VCALENDAR
