BEGIN:VCALENDAR
VERSION:2.0
PRODID:Carson City Calendar Creator
METHOD:PUBLISH
BEGIN:VEVENT
DTSTAMP:20240116T105846
DTSTART:20240122T173000
DTEND:20240122T190000
SUMMARY:Parent Education Night
DESCRIPTION:<div x11i5rnm="" xat24cr="" x1mh8g0r="" x1vvkbs="" x126k92a"=""><div dir="auto">Parent Education Night next Monday, January 22nd, from 5:30pm-7:00pm!! This class is open to all!! Parents, Youth, Guardians and more!!</div><p dir="auto">&nbsp;</p><p dir="auto">This month is about Vaping and education and awareness around these products and more!</p><p dir="auto">This event will be in English!</p></div><div xat24cr="" x1mh8g0r="" x1vvkbs="" xtlvy1s="" x126k92a"=""><div dir="auto">This location of this event will be different than the previous Parent Nights. The location will be at&nbsp;<a xjbqb8w="" x6umtig="" x1b1mbwd="" xaqea5y="" xav7gou="" x9f619="" x1ypdohk="" xt0psk2="" xe8uvvx="" xdj266r="" x11i5rnm="" xat24cr="" x1mh8g0r="" xexx8yu="" x4uap5="" x18d9i69="" xkhd6sd="" x16tdsg8="" x1hl2dhg="" xggy1nq="" x1a2a7pz="" xt0b8zv="" x1fey0fg="" xo1l8bm"="" href="https://www.facebook.com/CCHHS?__cft__[0]=AZUNByqBpBlzXleBmuUBpTwQuZ_x98ndGVLK8cU05SAymx98sm_k94IhypRbc3YtSkdD0QVzGmz5W8yvB-5e9rjJ4v2uRNJps5-RHYW5v_3nRI6MIueVx_592IueJo_p7cU&amp;__tn__=-]K-R" role="link" tabindex="0">Carson City Health and Human Services</a>, located at 900 East Long Street, Carson City, NV 89706.</div><p dir="auto">&nbsp;</p></div><div xat24cr="" x1mh8g0r="" x1vvkbs="" xtlvy1s="" x126k92a"=""><div dir="auto">Please contact Suzie Rubio at 775-283-7201 or email at CCHHSTobacco@carsoncity.gov for more information or to RSVP!</div></div>
X-ALT-DESC;FMTTYPE=text/html:<div x11i5rnm="" xat24cr="" x1mh8g0r="" x1vvkbs="" x126k92a"=""><div dir="auto">Parent Education Night next Monday, January 22nd, from 5:30pm-7:00pm!! This class is open to all!! Parents, Youth, Guardians and more!!</div><p dir="auto">&nbsp;</p><p dir="auto">This month is about Vaping and education and awareness around these products and more!</p><p dir="auto">This event will be in English!</p></div><div xat24cr="" x1mh8g0r="" x1vvkbs="" xtlvy1s="" x126k92a"=""><div dir="auto">This location of this event will be different than the previous Parent Nights. The location will be at&nbsp;<a xjbqb8w="" x6umtig="" x1b1mbwd="" xaqea5y="" xav7gou="" x9f619="" x1ypdohk="" xt0psk2="" xe8uvvx="" xdj266r="" x11i5rnm="" xat24cr="" x1mh8g0r="" xexx8yu="" x4uap5="" x18d9i69="" xkhd6sd="" x16tdsg8="" x1hl2dhg="" xggy1nq="" x1a2a7pz="" xt0b8zv="" x1fey0fg="" xo1l8bm"="" href="https://www.facebook.com/CCHHS?__cft__[0]=AZUNByqBpBlzXleBmuUBpTwQuZ_x98ndGVLK8cU05SAymx98sm_k94IhypRbc3YtSkdD0QVzGmz5W8yvB-5e9rjJ4v2uRNJps5-RHYW5v_3nRI6MIueVx_592IueJo_p7cU&amp;__tn__=-]K-R" role="link" tabindex="0">Carson City Health and Human Services</a>, located at 900 East Long Street, Carson City, NV 89706.</div><p dir="auto">&nbsp;</p></div><div xat24cr="" x1mh8g0r="" x1vvkbs="" xtlvy1s="" x126k92a"=""><div dir="auto">Please contact Suzie Rubio at 775-283-7201 or email at CCHHSTobacco@carsoncity.gov for more information or to RSVP!</div></div>
LOCATION:Carson City Health and Human Services\, 900 E. Long St Carson City\, Nevada 89706
CLASS:PUBLIC
END:VEVENT
END:VCALENDAR
