BEGIN:VCALENDAR
VERSION:2.0
PRODID:Carson City Calendar Creator
METHOD:PUBLISH
BEGIN:VEVENT
DTSTAMP:20240326T123802
DTSTART:20240402T173000
DTEND:20240402T220000
SUMMARY:Parks and Recreation Commission Meeting
DESCRIPTION:<p>&nbsp;</p><p><a href="https://www.carsoncity.gov/government/city-meetings">Webcast and Agenda with Supporting Materials</a></p>
X-ALT-DESC;FMTTYPE=text/html:<p>&nbsp;</p><p><a href="https://www.carsoncity.gov/government/city-meetings">Webcast and Agenda with Supporting Materials</a></p>
LOCATION:Community Center\, Robert "Bob" Crowell Board Room\, 851 East William Street Carson City\, Nevada 89701
CLASS:PUBLIC
END:VEVENT
END:VCALENDAR
