BEGIN:VCALENDAR
VERSION:2.0
PRODID:Carson City Calendar Creator
METHOD:PUBLISH
BEGIN:VEVENT
DTSTAMP:20240212T101034
DTSTART:20240220T173000
DTEND:20240220T220000
SUMMARY:Open Space Advisory Committee Meeting
DESCRIPTION:<p><a href="https://www.carsoncity.gov/government/city-meetings">Webcast</a></p><p><a href="https://www.carsoncity.gov/home/showpublisheddocument/88422/638433277406870000" target="_blank">Agenda with Supporting Materials</a></p>
X-ALT-DESC;FMTTYPE=text/html:<p><a href="https://www.carsoncity.gov/government/city-meetings">Webcast</a></p><p><a href="https://www.carsoncity.gov/home/showpublisheddocument/88422/638433277406870000" target="_blank">Agenda with Supporting Materials</a></p>
LOCATION:Community Center\, Robert "Bob" Crowell Board Room\, 851 East William Street Carson City\, Nevada 89701
CLASS:PUBLIC
END:VEVENT
END:VCALENDAR
