BEGIN:VCALENDAR
VERSION:2.0
PRODID:Carson City Calendar Creator
METHOD:PUBLISH
BEGIN:VEVENT
DTSTAMP:20240408T101837
DTSTART:20240415T173000
DTEND:20240415T220000
SUMMARY:Open Space Advisory Committee Meeting
DESCRIPTION:<p style="margin-left: 40px;"><a href="https://www.carsoncity.gov/government/city-meetings">Webcast and Agenda with Supporting Materials</a></p>
X-ALT-DESC;FMTTYPE=text/html:<p style="margin-left: 40px;"><a href="https://www.carsoncity.gov/government/city-meetings">Webcast and Agenda with Supporting Materials</a></p>
LOCATION:Community Center\, Robert "Bob" Crowell Board Room\, 851 East William Street Carson City\, Nevada 89701
CLASS:PUBLIC
END:VEVENT
END:VCALENDAR
