BEGIN:VCALENDAR
VERSION:2.0
PRODID:Carson City Calendar Creator
METHOD:PUBLISH
BEGIN:VEVENT
DTSTAMP:20240305T100141
DTSTART:20240311T173000
DTEND:20240311T193000
SUMMARY:Cultural Commission Meeting
DESCRIPTION:<p><em><a href="https://www.carsoncity.gov/government/city-meetings">Webcast and Agenda with Supporting Materials</a></em></p><p><em>Agenda: <a href="https://www.carsoncity.gov/home/showpublisheddocument/88578/638529999691200000" target="_blank">03/11/2024 Cultural Commission Agenda</a></em></p>
X-ALT-DESC;FMTTYPE=text/html:<p><em><a href="https://www.carsoncity.gov/government/city-meetings">Webcast and Agenda with Supporting Materials</a></em></p><p><em>Agenda: <a href="https://www.carsoncity.gov/home/showpublisheddocument/88578/638529999691200000" target="_blank">03/11/2024 Cultural Commission Agenda</a></em></p>
LOCATION:Community Center\, Robert "Bob" Crowell Board Room\, 851 East William Street Carson City\, Nevada 89701
CLASS:PUBLIC
END:VEVENT
END:VCALENDAR
