BEGIN:VCALENDAR
VERSION:2.0
PRODID:Carson City Calendar Creator
METHOD:PUBLISH
BEGIN:VEVENT
DTSTAMP:20240603T083749
DTSTART:20240610T173000
DTEND:20240610T193000
SUMMARY:Cultural Commission Meeting
DESCRIPTION:<p><a href="https://www.carsoncity.gov/government/city-meetings"><em>Webcast and Agenda with Supporting Materials</em></a></p><p>Agenda: <a href="https://www.carsoncity.gov/home/showpublisheddocument/89435/638529999361800000" target="_blank">06.10.2024 Cultural Commission Agenda</a></p>
X-ALT-DESC;FMTTYPE=text/html:<p><a href="https://www.carsoncity.gov/government/city-meetings"><em>Webcast and Agenda with Supporting Materials</em></a></p><p>Agenda: <a href="https://www.carsoncity.gov/home/showpublisheddocument/89435/638529999361800000" target="_blank">06.10.2024 Cultural Commission Agenda</a></p>
LOCATION:
CLASS:PUBLIC
END:VEVENT
END:VCALENDAR
