BEGIN:VCALENDAR
VERSION:2.0
PRODID:Carson City Calendar Creator
METHOD:PUBLISH
BEGIN:VEVENT
DTSTAMP:20240830T175154
DTSTART:20240909T173000
DTEND:20240909T193000
SUMMARY:Cultural Commission Meeting
DESCRIPTION:<p><a href="https://www.carsoncity.gov/government/city-meetings"><em>Webcast and Agenda with Supporting Materials</em></a></p><p><em><a href="https://www.carsoncity.gov/home/showpublisheddocument/89974/638606363510430000" target="_blank">09/09/2024 CCCC Agenda</a></em></p>
X-ALT-DESC;FMTTYPE=text/html:<p><a href="https://www.carsoncity.gov/government/city-meetings"><em>Webcast and Agenda with Supporting Materials</em></a></p><p><em><a href="https://www.carsoncity.gov/home/showpublisheddocument/89974/638606363510430000" target="_blank">09/09/2024 CCCC Agenda</a></em></p>
LOCATION:
CLASS:PUBLIC
END:VEVENT
END:VCALENDAR
