BEGIN:VCALENDAR
VERSION:2.0
PRODID:Carson City Calendar Creator
METHOD:PUBLISH
BEGIN:VEVENT
DTSTAMP:20240506T162022
DTSTART:20240510T000000
DTEND:20240512T235900
SUMMARY:Mark Twain Days
DESCRIPTION:<p>Register for workshops here:</p><p>https://anc.apm.activecommunities.com/ccpr/activity/search?onlineSiteId=0&amp;locale=en-US&amp;activity_select_param=2&amp;activity_keyword=mark%20twain%20days&amp;viewMode=list</p>
X-ALT-DESC;FMTTYPE=text/html:<p>Register for workshops here:</p><p>https://anc.apm.activecommunities.com/ccpr/activity/search?onlineSiteId=0&amp;locale=en-US&amp;activity_select_param=2&amp;activity_keyword=mark%20twain%20days&amp;viewMode=list</p>
LOCATION:
CLASS:PUBLIC
END:VEVENT
END:VCALENDAR
