BEGIN:VCALENDAR
VERSION:2.0
PRODID:Carson City Calendar Creator
METHOD:PUBLISH
BEGIN:VEVENT
DTSTAMP:20240212T093213
DTSTART:20240220T133000
DTEND:20240220T153000
SUMMARY:Debt Management Commission
DESCRIPTION:<a href="https://www.carsoncity.gov/home/showpublisheddocument/88420/638433268669470000" target="_blank">Agenda</a>
X-ALT-DESC;FMTTYPE=text/html:<a href="https://www.carsoncity.gov/home/showpublisheddocument/88420/638433268669470000" target="_blank">Agenda</a>
LOCATION:
CLASS:PUBLIC
END:VEVENT
END:VCALENDAR
