BEGIN:VCALENDAR
VERSION:2.0
PRODID:Carson City Calendar Creator
METHOD:PUBLISH
BEGIN:VEVENT
DTSTAMP:20240214T084736
DTSTART:20240213T090000
DTEND:20240213T140000
SUMMARY:Board of Equalization
DESCRIPTION:<a href="https://www.carsoncity.gov/home/showpublisheddocument/88436/638434972409370000" target="_blank">Agenda&nbsp;&amp; Packet</a>
X-ALT-DESC;FMTTYPE=text/html:<a href="https://www.carsoncity.gov/home/showpublisheddocument/88436/638434972409370000" target="_blank">Agenda&nbsp;&amp; Packet</a>
LOCATION:
CLASS:PUBLIC
END:VEVENT
END:VCALENDAR
