BEGIN:VCALENDAR
VERSION:2.0
PRODID:Carson City Calendar Creator
METHOD:PUBLISH
BEGIN:VEVENT
DTSTAMP:20240214T141914
DTSTART:20240221T133000
DTEND:20240221T235900
SUMMARY:Other Post Employment Benefits Trust Fund Board of Trustees
DESCRIPTION:<a href="https://www.carsoncity.gov/government/city-meetings">Broadcast and Agenda with Supporting Materials</a>
X-ALT-DESC;FMTTYPE=text/html:<a href="https://www.carsoncity.gov/government/city-meetings">Broadcast and Agenda with Supporting Materials</a>
LOCATION:Community Center\, Robert "Bob" Crowell Board Room\, 851 East William Street Carson City\, Nevada 89701
CLASS:PUBLIC
END:VEVENT
END:VCALENDAR
