BEGIN:VCALENDAR
VERSION:2.0
PRODID:Carson City Calendar Creator
METHOD:PUBLISH
BEGIN:VEVENT
DTSTAMP:20251022T153222
DTSTART:20240304T080000
DTEND:20240304T170000
SUMMARY:Reminder - Property Tax Due
DESCRIPTION:<p><strong>ON MONDAY, MARCH 4, 2024 THE FOURTH INSTALLMENT OF THE FISCAL YEAR 2023-2024 Real Property Taxes</strong> are due and payable in the office of the Carson City Treasurer, located inside City Hall, 201 N. Carson Street Suite #5.&nbsp; For your convenience, you can make a payment online at <a href="https://protect-us.mimecast.com/s/mo8FC4xD8RtJV5KvuV5lqT?domain=carsoncitynv.devnetwedge.com/" target="_blank">www.carsoncity.gov</a>.</p><p><strong><i><u>If you already made a payment, please disregard this notice.</u></i></strong></p>
X-ALT-DESC;FMTTYPE=text/html:<p><strong>ON MONDAY, MARCH 4, 2024 THE FOURTH INSTALLMENT OF THE FISCAL YEAR 2023-2024 Real Property Taxes</strong> are due and payable in the office of the Carson City Treasurer, located inside City Hall, 201 N. Carson Street Suite #5.&nbsp; For your convenience, you can make a payment online at <a href="https://protect-us.mimecast.com/s/mo8FC4xD8RtJV5KvuV5lqT?domain=carsoncitynv.devnetwedge.com/" target="_blank">www.carsoncity.gov</a>.</p><p><strong><i><u>If you already made a payment, please disregard this notice.</u></i></strong></p>
LOCATION:City Hall\, 201 N Carson St #5 Carson City\, Nevada 89701
CLASS:PUBLIC
END:VEVENT
END:VCALENDAR
