BEGIN:VCALENDAR
VERSION:2.0
PRODID:Carson City Calendar Creator
METHOD:PUBLISH
BEGIN:VEVENT
DTSTAMP:20240222T081216
DTSTART:20240228T173000
DTEND:20240228T190000
SUMMARY:Parent Education Night
DESCRIPTION:<p>This event will go in-depth about substance use behaviors with our children in the community. This night will also give participants the opportunity to learn more about different types of drugs/alcohol, and how to be proactive with our youth with these topics. If you want more information and tips on how to talk to your child about substance use, this night is for you!</p><p>For more information/RSVP for this event, contact Michelle Entz at 775-283-7640 or email at mentz@carsoncity.gov&nbsp;</p><p>This event will be in English!</p>
X-ALT-DESC;FMTTYPE=text/html:<p>This event will go in-depth about substance use behaviors with our children in the community. This night will also give participants the opportunity to learn more about different types of drugs/alcohol, and how to be proactive with our youth with these topics. If you want more information and tips on how to talk to your child about substance use, this night is for you!</p><p>For more information/RSVP for this event, contact Michelle Entz at 775-283-7640 or email at mentz@carsoncity.gov&nbsp;</p><p>This event will be in English!</p>
LOCATION:Carson City Juvenile Services: Probation Office\, 740 S. Saliman Road Carson City\, Nevada 89701
CLASS:PUBLIC
END:VEVENT
END:VCALENDAR
