BEGIN:VCALENDAR
VERSION:2.0
PRODID:Carson City Calendar Creator
METHOD:PUBLISH
BEGIN:VEVENT
DTSTAMP:20240222T141447
DTSTART:20240228T133000
DTEND:20240228T143000
SUMMARY:Administrative Hearing
DESCRIPTION:<a href="https://www.carsoncity.gov/government/city-meetings-live-broadcast-and-archives/agendas">2.28.2024 Agenda with Supporting Material</a>
X-ALT-DESC;FMTTYPE=text/html:<a href="https://www.carsoncity.gov/government/city-meetings-live-broadcast-and-archives/agendas">2.28.2024 Agenda with Supporting Material</a>
LOCATION:Community Development\, Conference Room "A"\, 108 E. Proctor Street Carson City\, Nevada 89701
CLASS:PUBLIC
END:VEVENT
END:VCALENDAR
