BEGIN:VCALENDAR
VERSION:2.0
PRODID:Carson City Calendar Creator
METHOD:PUBLISH
BEGIN:VEVENT
DTSTAMP:20240223T155144
DTSTART:20240229T090000
DTEND:20240229T160000
SUMMARY:Work Session of the Board of Supervisors and Joint Work Session of the Board of Supervisors and the Regional Transportation Commission
DESCRIPTION:<a href="https://www.carsoncity.gov/government/city-meetings-live-broadcast-and-archives/agendas/board-of-supervisors-agendas-with-supporting-materials">Agenda and Supporting Materials</a>
X-ALT-DESC;FMTTYPE=text/html:<a href="https://www.carsoncity.gov/government/city-meetings-live-broadcast-and-archives/agendas/board-of-supervisors-agendas-with-supporting-materials">Agenda and Supporting Materials</a>
LOCATION:Carson Tahoe Regional Medical Center - Bristlecone Room\, 1600 Medical Parkway Carson City\, Nevada 89703
CLASS:PUBLIC
END:VEVENT
END:VCALENDAR
