BEGIN:VCALENDAR
VERSION:2.0
PRODID:Carson City Calendar Creator
METHOD:PUBLISH
BEGIN:VEVENT
DTSTAMP:20240229T124502
DTSTART:20240323T100000
DTEND:20240323T120000
SUMMARY:Carson City Local Road Funding Workshop
DESCRIPTION:<p align="center"><b><a href="https://www.carsoncity.gov/home/showpublisheddocument/88506/638445339380400000" target="_blank">Carson City Hosts Another Local Road Funding Workshop!</a></b></p><p align="center"><b><span style="color: rgb(192, 0, 0);">***RESCHEDULED***</span></b></p><p>&nbsp;Carson City Public Works and the Transportation Division are continuing to explore financial options to fund local neighborhood road improvements and repairs throughout Carson City.</p><p>&nbsp;</p><p align="center"><b>Saturday, March 23, 2024 from 10 a.m. - 12 p.m.</b></p><p align="center"><b>Carson City Community Center Gym </b></p><p align="center"><b>851 E. William Street in Carson City</b></p><p>&nbsp;Carson City staff will hold two brief presentations at 10:10 am and 11:10 am summarizing the projects, and staff will host display stations illustrating examples of the potential funding options, estimates of how GID assessments may be applied, future roadway condition levels, next steps related for project delivery and construction, and what happens if we continue without any additional funding. Most importantly, you can provide your comments and cast your choice on the options presented.</p><p>&nbsp;Visit <a href="http://preservecarsoncityroads.com/">preservecarsoncityroads.com</a> for current project information.</p><p>&nbsp;</p><p>&nbsp;</p>
X-ALT-DESC;FMTTYPE=text/html:<p align="center"><b><a href="https://www.carsoncity.gov/home/showpublisheddocument/88506/638445339380400000" target="_blank">Carson City Hosts Another Local Road Funding Workshop!</a></b></p><p align="center"><b><span style="color: rgb(192, 0, 0);">***RESCHEDULED***</span></b></p><p>&nbsp;Carson City Public Works and the Transportation Division are continuing to explore financial options to fund local neighborhood road improvements and repairs throughout Carson City.</p><p>&nbsp;</p><p align="center"><b>Saturday, March 23, 2024 from 10 a.m. - 12 p.m.</b></p><p align="center"><b>Carson City Community Center Gym </b></p><p align="center"><b>851 E. William Street in Carson City</b></p><p>&nbsp;Carson City staff will hold two brief presentations at 10:10 am and 11:10 am summarizing the projects, and staff will host display stations illustrating examples of the potential funding options, estimates of how GID assessments may be applied, future roadway condition levels, next steps related for project delivery and construction, and what happens if we continue without any additional funding. Most importantly, you can provide your comments and cast your choice on the options presented.</p><p>&nbsp;Visit <a href="http://preservecarsoncityroads.com/">preservecarsoncityroads.com</a> for current project information.</p><p>&nbsp;</p><p>&nbsp;</p>
LOCATION:Carson City Community Center Gymnasium\, 851 East William Street Carson City\, Nevada 89701
CLASS:PUBLIC
END:VEVENT
END:VCALENDAR
