BEGIN:VCALENDAR
VERSION:2.0
PRODID:Carson City Calendar Creator
METHOD:PUBLISH
BEGIN:VEVENT
DTSTAMP:20240226T102445
DTSTART:20240304T170000
DTEND:20240304T234500
SUMMARY:Redevelopment Authority Citizens Committee
DESCRIPTION:<p><a href="https://www.carsoncity.gov/our-city/city-meetings-agendas-minutes-and-broadcast">Webcast&nbsp;</a></p><p><a href="https://www.carsoncity.gov/our-city/city-meetings-agendas-minutes-and-broadcast">03.04.2024 Agenda with Supporting Materials</a></p>
X-ALT-DESC;FMTTYPE=text/html:<p><a href="https://www.carsoncity.gov/our-city/city-meetings-agendas-minutes-and-broadcast">Webcast&nbsp;</a></p><p><a href="https://www.carsoncity.gov/our-city/city-meetings-agendas-minutes-and-broadcast">03.04.2024 Agenda with Supporting Materials</a></p>
LOCATION:Community Center\, Robert "Bob" Crowell Board Room\, 851 East William Street Carson City\, Nevada 89701
CLASS:PUBLIC
END:VEVENT
END:VCALENDAR
