BEGIN:VCALENDAR
VERSION:2.0
PRODID:Carson City Calendar Creator
METHOD:PUBLISH
BEGIN:VEVENT
DTSTAMP:20240905T130620
DTSTART:20240904T140000
DTEND:20240904T160000
SUMMARY:Historic Resources Commission
DESCRIPTION:<p><a href="https://www.carsoncity.gov/government/city-meetings">Webcast&nbsp;and Agenda with Supporting Materials</a></p>
X-ALT-DESC;FMTTYPE=text/html:<p><a href="https://www.carsoncity.gov/government/city-meetings">Webcast&nbsp;and Agenda with Supporting Materials</a></p>
LOCATION:Community Center\, Robert "Bob" Crowell Board Room\, 851 East William Street Carson City\, Nevada 89701
CLASS:PUBLIC
END:VEVENT
END:VCALENDAR
