BEGIN:VCALENDAR
VERSION:2.0
PRODID:Carson City Calendar Creator
METHOD:PUBLISH
BEGIN:VEVENT
DTSTAMP:20240311T094445
DTSTART:20240314T173000
DTEND:20240314T190000
SUMMARY:Library Board of Trustees Meeting
DESCRIPTION:<a href="https://carsoncitylibrary.org/" target="_blank">https://carsoncitylibrary.org/</a>
X-ALT-DESC;FMTTYPE=text/html:<a href="https://carsoncitylibrary.org/" target="_blank">https://carsoncitylibrary.org/</a>
LOCATION:Carson City Community Center\, 851 E William St Carson City\, Nevada 89701
CLASS:PUBLIC
END:VEVENT
END:VCALENDAR
