BEGIN:VCALENDAR
VERSION:2.0
PRODID:Carson City Calendar Creator
METHOD:PUBLISH
BEGIN:VEVENT
DTSTAMP:20240315T135146
DTSTART:20240320T173000
DTEND:20240320T190000
SUMMARY:Parent Education Night
DESCRIPTION:<p>This event will go in-depth about high-risk behaviors among the youth in our community and help guide Parents/Guardians/Community Members to become more aware of the current dangers among youth from social media, negative peer pressure, school and gang violence, substance use and more. If you want more&nbsp;information on how to talk with your children about these high-risk behaviors, this night is for you!</p><p>This event will be in English!</p><p>&nbsp;For more information/RSVP for this event, contact Michelle Entz at 775-283-7640 or email at mentz@carsoncity.gov</p><p>Everyone is welcomed!<br>Parents, Youth, Teachers, Guardians, and Community Members</p>
X-ALT-DESC;FMTTYPE=text/html:<p>This event will go in-depth about high-risk behaviors among the youth in our community and help guide Parents/Guardians/Community Members to become more aware of the current dangers among youth from social media, negative peer pressure, school and gang violence, substance use and more. If you want more&nbsp;information on how to talk with your children about these high-risk behaviors, this night is for you!</p><p>This event will be in English!</p><p>&nbsp;For more information/RSVP for this event, contact Michelle Entz at 775-283-7640 or email at mentz@carsoncity.gov</p><p>Everyone is welcomed!<br>Parents, Youth, Teachers, Guardians, and Community Members</p>
LOCATION:Carson City Juvenile Services: Probation Classroom\, 740 S. Saliman Road Carson City\, Nevada 89701
CLASS:PUBLIC
END:VEVENT
END:VCALENDAR
