BEGIN:VCALENDAR
VERSION:2.0
PRODID:Carson City Calendar Creator
METHOD:PUBLISH
BEGIN:VEVENT
DTSTAMP:20240326T141224
DTSTART:20240401T170000
DTEND:20240401T235900
SUMMARY:Redevelopment Authority Citizens Committee
DESCRIPTION:<p><a href="https://www.carsoncity.gov/government/city-meetings">Webcast</a></p><p><a href="https://www.carsoncity.gov/government/city-meetings-live-broadcast-and-archives/agendas/redevelopment-authority-citizens-committee-agendas-with-supporting-materials/2024-agendas-with-supporting-material/04-01-2024-agenda-with-supporting-material">04.01.2024 Agenda with Supporting Material&nbsp;</a></p>
X-ALT-DESC;FMTTYPE=text/html:<p><a href="https://www.carsoncity.gov/government/city-meetings">Webcast</a></p><p><a href="https://www.carsoncity.gov/government/city-meetings-live-broadcast-and-archives/agendas/redevelopment-authority-citizens-committee-agendas-with-supporting-materials/2024-agendas-with-supporting-material/04-01-2024-agenda-with-supporting-material">04.01.2024 Agenda with Supporting Material&nbsp;</a></p>
LOCATION:Community Center\, Bob Boldrick Theater\, 851 East William Street Carson City\, Nevada 89701-3123
CLASS:PUBLIC
END:VEVENT
END:VCALENDAR
