BEGIN:VCALENDAR
VERSION:2.0
PRODID:Carson City Calendar Creator
METHOD:PUBLISH
BEGIN:VEVENT
DTSTAMP:20240327T112709
DTSTART:20240402T130000
DTEND:20240402T153000
SUMMARY:Utility Finance Oversight Committee Meeting
DESCRIPTION:<p>&nbsp;</p><p><a href="https://www.carsoncity.gov/government/city-meetings">Livestream&nbsp;and Agenda with Supporting Materials</a></p>
X-ALT-DESC;FMTTYPE=text/html:<p>&nbsp;</p><p><a href="https://www.carsoncity.gov/government/city-meetings">Livestream&nbsp;and Agenda with Supporting Materials</a></p>
LOCATION:Community Center\, Robert "Bob" Crowell Board Room\, 851 East William Street Carson City\, Nevada 89701
CLASS:PUBLIC
END:VEVENT
END:VCALENDAR
