BEGIN:VCALENDAR
VERSION:2.0
PRODID:Carson City Calendar Creator
METHOD:PUBLISH
BEGIN:VEVENT
DTSTAMP:20240408T084603
DTSTART:20240411T173000
DTEND:20240411T235900
SUMMARY:Library Board of Trustees
DESCRIPTION:<p><a href="https://carsoncitylibrary.org/board-meetings/" target="_blank">Agenda</a></p><p><a href="https://www.carsoncity.gov/government/city-meetings">Live Broadcast</a></p>
X-ALT-DESC;FMTTYPE=text/html:<p><a href="https://carsoncitylibrary.org/board-meetings/" target="_blank">Agenda</a></p><p><a href="https://www.carsoncity.gov/government/city-meetings">Live Broadcast</a></p>
LOCATION:Community Center\, Robert "Bob" Crowell Board Room\, 851 East William Street Carson City\, Nevada 89701
CLASS:PUBLIC
END:VEVENT
END:VCALENDAR
