BEGIN:VCALENDAR
VERSION:2.0
PRODID:Carson City Calendar Creator
METHOD:PUBLISH
BEGIN:VEVENT
DTSTAMP:20240409T140707
DTSTART:20240416T180000
DTEND:20240416T193000
SUMMARY:Monthly Parent Education Night (Spanish)
DESCRIPTION:<p>Tema: ¿Por qué es importante la asistencia? ¿Qué es el ausentismo crónico escolar?<br>Este evento brindará a los padres y a la comunidad educación y concientización sobre los estudiantes que tienen dificultades para atender la escuela y ausentarse durante el año escolar.<br>Para obtener más información sobre este evento y reservar, comuníquese con Paola Villigrana y Miguel Albarran al 775-283-7601</p><p>_________________________________________________________________________________________________________________________________________________________________________________________________________________________________________________________________</p><p>Topic: Why attendance is important? What is chronic absenteeism in schools?<br>This event will provide parents and the community with education and awareness about students who have difficulty attending school and being absent during the school year.<br>For more information about this event and to book, contact Paola Villigrana and Miguel Albarran at 775-283-7601</p><div></div>
X-ALT-DESC;FMTTYPE=text/html:<p>Tema: ¿Por qué es importante la asistencia? ¿Qué es el ausentismo crónico escolar?<br>Este evento brindará a los padres y a la comunidad educación y concientización sobre los estudiantes que tienen dificultades para atender la escuela y ausentarse durante el año escolar.<br>Para obtener más información sobre este evento y reservar, comuníquese con Paola Villigrana y Miguel Albarran al 775-283-7601</p><p>_________________________________________________________________________________________________________________________________________________________________________________________________________________________________________________________________</p><p>Topic: Why attendance is important? What is chronic absenteeism in schools?<br>This event will provide parents and the community with education and awareness about students who have difficulty attending school and being absent during the school year.<br>For more information about this event and to book, contact Paola Villigrana and Miguel Albarran at 775-283-7601</p><div></div>
LOCATION:Carson City Juvenile Services: Probation Office\, 740 S. Saliman Road Carson City\, Nevada 89701
CLASS:PUBLIC
END:VEVENT
END:VCALENDAR
