BEGIN:VCALENDAR
VERSION:2.0
PRODID:Carson City Calendar Creator
METHOD:PUBLISH
BEGIN:VEVENT
DTSTAMP:20240409T141321
DTSTART:20240425T180000
DTEND:20240425T193000
SUMMARY:Monthly Parent Education Night
DESCRIPTION:<p>This event will give parents and the community education and awareness on students who are struggling with being truant and absent throughout the school year!</p><p>This event will have a guest speaker, Megan Newman, Engagement and Attendance Specialist. She will help provide information to the public to be aware of absent students, and tools to help families combat this prevalent problem.</p><p>For more information about this event, and to RSVP, contact Michelle Entz at mentz@carsoncity.gov or at 775-283-7640</p>
X-ALT-DESC;FMTTYPE=text/html:<p>This event will give parents and the community education and awareness on students who are struggling with being truant and absent throughout the school year!</p><p>This event will have a guest speaker, Megan Newman, Engagement and Attendance Specialist. She will help provide information to the public to be aware of absent students, and tools to help families combat this prevalent problem.</p><p>For more information about this event, and to RSVP, contact Michelle Entz at mentz@carsoncity.gov or at 775-283-7640</p>
LOCATION:Carson City Juvenile Services: Probation Office\, 740 S. Saliman Road Carson City\, Nevada 89701
CLASS:PUBLIC
END:VEVENT
END:VCALENDAR
