BEGIN:VCALENDAR
VERSION:2.0
PRODID:Carson City Calendar Creator
METHOD:PUBLISH
BEGIN:VEVENT
DTSTAMP:20240409T145154
DTSTART:20240504T100000
DTEND:20240504T120000
SUMMARY:Carson Ridge Disc Golf Clean-Up
DESCRIPTION:<a href="https://anc.apm.activecommunities.com/ccpr/activity/search/detail/8728?onlineSiteId=0&amp;from_original_cui=true&amp;locale=en-US" target="_blank">Registration for Disc Golf Clean-Up</a>
X-ALT-DESC;FMTTYPE=text/html:<a href="https://anc.apm.activecommunities.com/ccpr/activity/search/detail/8728?onlineSiteId=0&amp;from_original_cui=true&amp;locale=en-US" target="_blank">Registration for Disc Golf Clean-Up</a>
LOCATION:
CLASS:PUBLIC
END:VEVENT
END:VCALENDAR
