BEGIN:VCALENDAR
VERSION:2.0
PRODID:Carson City Calendar Creator
METHOD:PUBLISH
BEGIN:VEVENT
DTSTAMP:20240410T145010
DTSTART:20240411T090000
DTEND:20240411T120000
SUMMARY:Planning Commission
DESCRIPTION:<a href="https://www.carsoncity.gov/government/city-meetings">Webcast and Agenda with Supporting Material</a>
X-ALT-DESC;FMTTYPE=text/html:<a href="https://www.carsoncity.gov/government/city-meetings">Webcast and Agenda with Supporting Material</a>
LOCATION:Community Center\, Robert "Bob" Crowell Board Room\, 851 East William Street Carson City\, Nevada 89701
CLASS:PUBLIC
END:VEVENT
END:VCALENDAR
