BEGIN:VCALENDAR
VERSION:2.0
PRODID:Carson City Calendar Creator
METHOD:PUBLISH
BEGIN:VEVENT
DTSTAMP:20240506T084515
DTSTART:20240509T173000
DTEND:20240509T190000
SUMMARY:Carson City Library Board of Trustees Meeting
DESCRIPTION:https://carsoncitylibrary.org/board-meetings/
X-ALT-DESC;FMTTYPE=text/html:https://carsoncitylibrary.org/board-meetings/
LOCATION:
CLASS:PUBLIC
END:VEVENT
END:VCALENDAR
