BEGIN:VCALENDAR
VERSION:2.0
PRODID:Carson City Calendar Creator
METHOD:PUBLISH
BEGIN:VEVENT
DTSTAMP:20240506T151120
DTSTART:20241024T160000
DTEND:20241024T190000
SUMMARY:BOOnanza
DESCRIPTION:This is a free, family-friendly community event where businesses and organizations decorate booths so families can trick-or-treat to each booth. The event will run from 4pm-7pm on Thursday, October 24
X-ALT-DESC;FMTTYPE=text/html:This is a free, family-friendly community event where businesses and organizations decorate booths so families can trick-or-treat to each booth. The event will run from 4pm-7pm on Thursday, October 24
LOCATION:
CLASS:PUBLIC
END:VEVENT
END:VCALENDAR
