BEGIN:VCALENDAR
VERSION:2.0
PRODID:Carson City Calendar Creator
METHOD:PUBLISH
BEGIN:VEVENT
DTSTAMP:20240506T153523
DTSTART:20240608T100000
DTEND:20240608T120000
SUMMARY:Family Art Saturdays
DESCRIPTION:<p>Children of all ages and their families are invited to explore a variety of hands-on visual art projects that engage and educate. Second and Fourth Saturday of each month* 10am-noon. $10 (group discounts available, children 4 and under are free)</p><p>*see available dates and register here: https://anc.apm.activecommunities.com/ccpr/activity/search?onlineSiteId=0&amp;locale=en-US&amp;activity_select_param=2&amp;activity_keyword=family%20art%20saturdays&amp;viewMode=list</p>
X-ALT-DESC;FMTTYPE=text/html:<p>Children of all ages and their families are invited to explore a variety of hands-on visual art projects that engage and educate. Second and Fourth Saturday of each month* 10am-noon. $10 (group discounts available, children 4 and under are free)</p><p>*see available dates and register here: https://anc.apm.activecommunities.com/ccpr/activity/search?onlineSiteId=0&amp;locale=en-US&amp;activity_select_param=2&amp;activity_keyword=family%20art%20saturdays&amp;viewMode=list</p>
LOCATION:Carson City Community Center\, 851 E William St Carson City\, Nevada 89701
CLASS:PUBLIC
END:VEVENT
END:VCALENDAR
