BEGIN:VCALENDAR
VERSION:2.0
PRODID:Carson City Calendar Creator
METHOD:PUBLISH
BEGIN:VEVENT
DTSTAMP:20240508T083812
DTSTART:20240520T173000
DTEND:20240520T190000
SUMMARY:Night of Education In Spanish (Noche de Educación en Español)
DESCRIPTION:<p>Esta presentación proporcionará información básica sobre los cigarrillos electrónicos y los<br>productos de vapeo, el alcance de la epidemia de vapeo entre jóvenes y los efectos del<br>vapeo en la salud a corto y largo plazo.<br>Este evento también explicará cómo hablar con sus hijos y brindará recursos para dejar los<br>productos de tabaco, incluidos los cigarrillos electrónicos.</p><p>Para obtener más información/confirmar su asistencia a este evento, comuníquese con<br>Cindy Lepe al 775-283-7042<br>o envíe un correo electrónico a CCHHHStobacco@carsoncity.gov</p><p>&nbsp;___________________________________________________________________________________________________________________________________</p><p>This presentation will provide basic information about electronic cigarettes and<br>vaping products, the extent of the youth vaping epidemic, and the effects of<br>vaping on short and long term health.<br>This event will also explain how to talk to your children and provide resources for quitting<br>tobacco products, including electronic cigarettes.</p><p>For more information/RSVP for this event, please contact<br>Cindy Lepe at 775-283-7042<br>or email CCHHHStobacco@carsoncity.gov</p>
X-ALT-DESC;FMTTYPE=text/html:<p>Esta presentación proporcionará información básica sobre los cigarrillos electrónicos y los<br>productos de vapeo, el alcance de la epidemia de vapeo entre jóvenes y los efectos del<br>vapeo en la salud a corto y largo plazo.<br>Este evento también explicará cómo hablar con sus hijos y brindará recursos para dejar los<br>productos de tabaco, incluidos los cigarrillos electrónicos.</p><p>Para obtener más información/confirmar su asistencia a este evento, comuníquese con<br>Cindy Lepe al 775-283-7042<br>o envíe un correo electrónico a CCHHHStobacco@carsoncity.gov</p><p>&nbsp;___________________________________________________________________________________________________________________________________</p><p>This presentation will provide basic information about electronic cigarettes and<br>vaping products, the extent of the youth vaping epidemic, and the effects of<br>vaping on short and long term health.<br>This event will also explain how to talk to your children and provide resources for quitting<br>tobacco products, including electronic cigarettes.</p><p>For more information/RSVP for this event, please contact<br>Cindy Lepe at 775-283-7042<br>or email CCHHHStobacco@carsoncity.gov</p>
LOCATION:Carson City Health and Human Services\, 900 E. Long St Carson City\, Nevada 89706
CLASS:PUBLIC
END:VEVENT
END:VCALENDAR
