BEGIN:VCALENDAR
VERSION:2.0
PRODID:Carson City Calendar Creator
METHOD:PUBLISH
BEGIN:VEVENT
DTSTAMP:20240508T084718
DTSTART:20240529T180000
DTEND:20240529T193000
SUMMARY:Parent and Youth Education Night
DESCRIPTION:<p>JOIN US FOR AN INFORMATIVE NIGHT ABOUT SUBSTANCE USE AND HIGH-RISK BEHAVIORS AMONG OUR YOUTH</p><p>This event will go in-depth about substance use and high-risk behaviors among the youth in our community. This event will partner with the<br>Carson City Sheriff's Office to provide the presentation and discussion on<br>these various topics!</p><p>For more information/RSVP for this event, contact Michelle Entz at 775-283-7640<br>or email at mentz@carsoncity.gov</p><p>This presentation will be in English</p>
X-ALT-DESC;FMTTYPE=text/html:<p>JOIN US FOR AN INFORMATIVE NIGHT ABOUT SUBSTANCE USE AND HIGH-RISK BEHAVIORS AMONG OUR YOUTH</p><p>This event will go in-depth about substance use and high-risk behaviors among the youth in our community. This event will partner with the<br>Carson City Sheriff's Office to provide the presentation and discussion on<br>these various topics!</p><p>For more information/RSVP for this event, contact Michelle Entz at 775-283-7640<br>or email at mentz@carsoncity.gov</p><p>This presentation will be in English</p>
LOCATION:Carson City Juvenile Services: Probation Office\, 740 S. Saliman Road Carson City\, Nevada 89701
CLASS:PUBLIC
END:VEVENT
END:VCALENDAR
