BEGIN:VCALENDAR
VERSION:2.0
PRODID:Carson City Calendar Creator
METHOD:PUBLISH
BEGIN:VEVENT
DTSTAMP:20240521T154722
DTSTART:20240521T173000
DTEND:20240521T200000
SUMMARY:Airport Authority Special Meeting
DESCRIPTION:
X-ALT-DESC;FMTTYPE=text/html:
LOCATION:Carson City Airport Terminal\, 2600 E. College Parkway Carson City\, Nevada 
CLASS:PUBLIC
END:VEVENT
END:VCALENDAR
