BEGIN:VCALENDAR
VERSION:2.0
PRODID:Carson City Calendar Creator
METHOD:PUBLISH
BEGIN:VEVENT
DTSTAMP:20240604T113202
DTSTART:20240611T180000
DTEND:20240611T193000
SUMMARY:Parent and Youth Education Night (Spanish)
DESCRIPTION:<p>Esta noche proporcionará conversaciones y recursos sobre redes sociales y concienciar sobre los peligros que se impresionado en nuestra juventud.&nbsp;</p><p>Para obtener más información o confirmar su asistencia al evento, comuníquese con Michelle Entz en mentz@carsoncity.gov o 775-283-7640</p><p>&nbsp;_____________________________________________________________________________________________________________________________________________________________________________</p><p>This night will provide conversations and resources on social media and bring awareness of the dangers being impressed on our youth.</p><p>For more information or RSVP for the event, contact Michelle Entz at mentz@carsoncity.gov or 775-283-7640</p>
X-ALT-DESC;FMTTYPE=text/html:<p>Esta noche proporcionará conversaciones y recursos sobre redes sociales y concienciar sobre los peligros que se impresionado en nuestra juventud.&nbsp;</p><p>Para obtener más información o confirmar su asistencia al evento, comuníquese con Michelle Entz en mentz@carsoncity.gov o 775-283-7640</p><p>&nbsp;_____________________________________________________________________________________________________________________________________________________________________________</p><p>This night will provide conversations and resources on social media and bring awareness of the dangers being impressed on our youth.</p><p>For more information or RSVP for the event, contact Michelle Entz at mentz@carsoncity.gov or 775-283-7640</p>
LOCATION:Carson City Juvenile Services: Probation Office\, 740 S. Saliman Road Carson City\, Nevada 89701
CLASS:PUBLIC
END:VEVENT
END:VCALENDAR
