BEGIN:VCALENDAR
VERSION:2.0
PRODID:Carson City Calendar Creator
METHOD:PUBLISH
BEGIN:VEVENT
DTSTAMP:20240610T163554
DTSTART:20240625T180000
DTEND:20240625T193000
SUMMARY:Parent and Youth Education Night
DESCRIPTION:<p>This night will provide conversations and resources on social media and bring awareness of the dangers being impressed on our youth.</p><p>For more information or RSVP for the event, contact Michelle Entz at mentz@carsoncity.gov or 775-283-7640</p>
X-ALT-DESC;FMTTYPE=text/html:<p>This night will provide conversations and resources on social media and bring awareness of the dangers being impressed on our youth.</p><p>For more information or RSVP for the event, contact Michelle Entz at mentz@carsoncity.gov or 775-283-7640</p>
LOCATION:Carson City Juvenile Services: Probation Office\, 740 S. Saliman Road Carson City\, Nevada 89701
CLASS:PUBLIC
END:VEVENT
END:VCALENDAR
