BEGIN:VCALENDAR
VERSION:2.0
PRODID:Carson City Calendar Creator
METHOD:PUBLISH
BEGIN:VEVENT
DTSTAMP:20240612T152107
DTSTART:20240614T130000
DTEND:20240614T170000
SUMMARY:Planning Commission Workshop
DESCRIPTION:<a href="https://www.carsoncity.gov/government/city-meetings">Agenda and Supporting Materials</a>
X-ALT-DESC;FMTTYPE=text/html:<a href="https://www.carsoncity.gov/government/city-meetings">Agenda and Supporting Materials</a>
LOCATION:The Studio @ Adams Hub\, 177 W. Proctor Street Carson City\, Nevada 89703
CLASS:PUBLIC
END:VEVENT
END:VCALENDAR
