BEGIN:VCALENDAR
VERSION:2.0
PRODID:Carson City Calendar Creator
METHOD:PUBLISH
BEGIN:VEVENT
DTSTAMP:20240618T111902
DTSTART:20240620T080000
DTEND:20240620T100000
SUMMARY:Weeding at Linear Ditch Trail
DESCRIPTION:Join the Carson City Parks, Recreation and Open Space department for a morning of volunteering on Thursday June 20th! Join us at 8:00am at the Linear Ditch Trail section behind Fremont Elementary School to help us pull weeds and dig out invasive thistles. Tools will be provided. Close toed shoes, long pants, long sleeve shirts, and a hat are recommended as some of the thistles can be sharp edged.<div></div><div>Registration is strongly encouraged so that we can bring enough tools and staff support.</div><div></div><div>If you have further questions, please reach out to the Volunteer Coordinator at volunteer@carsoncity.gov</div><p>&nbsp;<a href="https://anc.apm.activecommunities.com/ccpr/activity/search/detail/8927?onlineSiteId=0&amp;locale=en-US&amp;from_original_cui=true">Activity detail | City of Carson City Online Services (activecommunities.com)</a></p>
X-ALT-DESC;FMTTYPE=text/html:Join the Carson City Parks, Recreation and Open Space department for a morning of volunteering on Thursday June 20th! Join us at 8:00am at the Linear Ditch Trail section behind Fremont Elementary School to help us pull weeds and dig out invasive thistles. Tools will be provided. Close toed shoes, long pants, long sleeve shirts, and a hat are recommended as some of the thistles can be sharp edged.<div></div><div>Registration is strongly encouraged so that we can bring enough tools and staff support.</div><div></div><div>If you have further questions, please reach out to the Volunteer Coordinator at volunteer@carsoncity.gov</div><p>&nbsp;<a href="https://anc.apm.activecommunities.com/ccpr/activity/search/detail/8927?onlineSiteId=0&amp;locale=en-US&amp;from_original_cui=true">Activity detail | City of Carson City Online Services (activecommunities.com)</a></p>
LOCATION:
CLASS:PUBLIC
END:VEVENT
END:VCALENDAR
