BEGIN:VCALENDAR
VERSION:2.0
PRODID:Carson City Calendar Creator
METHOD:PUBLISH
BEGIN:VEVENT
DTSTAMP:20240621T085535
DTSTART:20240626T173000
DTEND:20240626T190000
SUMMARY:Airport Authority Meeting
DESCRIPTION:
X-ALT-DESC;FMTTYPE=text/html:
LOCATION:Carson City Airport Terminal\, 2600 E. College Parkway Carson City\, Nevada 89705
CLASS:PUBLIC
END:VEVENT
END:VCALENDAR
