BEGIN:VCALENDAR
VERSION:2.0
PRODID:Carson City Calendar Creator
METHOD:PUBLISH
BEGIN:VEVENT
DTSTAMP:20240722T072141
DTSTART:20240730T180000
DTEND:20240730T200000
SUMMARY:Community Awareness Event "Sex Trafficking in Nevada"
DESCRIPTION:<p>Have you ever wondered if sex trafficking exists in your neighborhood? It does! You are invited to hear from local experts in law enforcement and advocacy to become aware and have an opportunity to ask questions about what sex trafficking looks like where you live.&nbsp;</p><p>Carson City Juvenile Services&nbsp;will be partnering with the HEAT Team (Regional Human Trafficking and Exploitation (HEAT) Unit), Carson City Sheriff's Office, SARA (Sexual Assault Response Advocates) with the Advocates to End Domestic Violence,&nbsp;and Xquisite. This night will be informative on the reality of human and sex trafficking and having experts to guide us through those conversations!</p><p>There will be someone representing the Spanish Community to answer all questions about this topic!</p><p>Contact Michelle Entz at 775-283-7640 or mentz@carsoncity.gov for more information!&nbsp;</p>
X-ALT-DESC;FMTTYPE=text/html:<p>Have you ever wondered if sex trafficking exists in your neighborhood? It does! You are invited to hear from local experts in law enforcement and advocacy to become aware and have an opportunity to ask questions about what sex trafficking looks like where you live.&nbsp;</p><p>Carson City Juvenile Services&nbsp;will be partnering with the HEAT Team (Regional Human Trafficking and Exploitation (HEAT) Unit), Carson City Sheriff's Office, SARA (Sexual Assault Response Advocates) with the Advocates to End Domestic Violence,&nbsp;and Xquisite. This night will be informative on the reality of human and sex trafficking and having experts to guide us through those conversations!</p><p>There will be someone representing the Spanish Community to answer all questions about this topic!</p><p>Contact Michelle Entz at 775-283-7640 or mentz@carsoncity.gov for more information!&nbsp;</p>
LOCATION:Carson City School District Board Room\, 1402 West King Street Carson City\, Nevada 89703
CLASS:PUBLIC
END:VEVENT
END:VCALENDAR
