BEGIN:VCALENDAR
VERSION:2.0
PRODID:Carson City Calendar Creator
METHOD:PUBLISH
BEGIN:VEVENT
DTSTAMP:20240626T081051
DTSTART:20240709T120000
DTEND:20240709T130000
SUMMARY:Juvenile Probation Committee Meeting
DESCRIPTION:
X-ALT-DESC;FMTTYPE=text/html:
LOCATION:Carson City Juvenile Services: Probation Office\, 740 S. Saliman Road Carson City\, Nevada 89701
CLASS:PUBLIC
END:VEVENT
END:VCALENDAR
