BEGIN:VCALENDAR
VERSION:2.0
PRODID:Carson City Calendar Creator
METHOD:PUBLISH
BEGIN:VEVENT
DTSTAMP:20240703T095841
DTSTART:20240720T000000
DTEND:20240720T235900
SUMMARY:Blackwell's Pond Clean-Up
DESCRIPTION:Join the Carson City Parks, Recreation and Open Space Department for a volunteer opportunity at Blackwell's Pond! We will be focusing on the trash that collects in the pond area, as well as have an opportunity to pull the invasive Bull Thistle that is growing there.<div></div><div>Tools will be provided. Long pants, long sleeve shirts, and hats are recommended for sun and brush protection. We will have some boots and waders for trash that is in the water, however bringing your own waterproof boots is recommended as supplies are limited.<div></div><div>Registration is strongly recommended, so that we may bring enough supplies and staff.</div><p><a href="https://anc.apm.activecommunities.com/ccpr/activity/search/detail/9030?onlineSiteId=0&amp;locale=en-US&amp;from_original_cui=true" target="_blank">Register Here!</a></p></div><div></div><div>If you have questions, please contact the Volunteer Coordinator at&nbsp;<a href="mailto:volunteer@carsoncity.gov" target="_self">volunteer@carsoncity.gov</a></div><p>&nbsp;</p>
X-ALT-DESC;FMTTYPE=text/html:Join the Carson City Parks, Recreation and Open Space Department for a volunteer opportunity at Blackwell's Pond! We will be focusing on the trash that collects in the pond area, as well as have an opportunity to pull the invasive Bull Thistle that is growing there.<div></div><div>Tools will be provided. Long pants, long sleeve shirts, and hats are recommended for sun and brush protection. We will have some boots and waders for trash that is in the water, however bringing your own waterproof boots is recommended as supplies are limited.<div></div><div>Registration is strongly recommended, so that we may bring enough supplies and staff.</div><p><a href="https://anc.apm.activecommunities.com/ccpr/activity/search/detail/9030?onlineSiteId=0&amp;locale=en-US&amp;from_original_cui=true" target="_blank">Register Here!</a></p></div><div></div><div>If you have questions, please contact the Volunteer Coordinator at&nbsp;<a href="mailto:volunteer@carsoncity.gov" target="_self">volunteer@carsoncity.gov</a></div><p>&nbsp;</p>
LOCATION:Blackwell's Pond Park\, 2317 Northridge Drive Carson City\, Nevada 89706
CLASS:PUBLIC
END:VEVENT
END:VCALENDAR
