BEGIN:VCALENDAR
VERSION:2.0
PRODID:Carson City Calendar Creator
METHOD:PUBLISH
BEGIN:VEVENT
DTSTAMP:20240725T155215
DTSTART:20240731T133000
DTEND:20240731T143000
SUMMARY:Liquor Hearing
DESCRIPTION:<a href="https://www.carsoncity.gov/government/city-meetings">Agenda and Supporting Materials</a>
X-ALT-DESC;FMTTYPE=text/html:<a href="https://www.carsoncity.gov/government/city-meetings">Agenda and Supporting Materials</a>
LOCATION:Community Development\, Conference Room "A"\, 108 E. Proctor Street Carson City\, Nevada 89701
CLASS:PUBLIC
END:VEVENT
END:VCALENDAR
