BEGIN:VCALENDAR
VERSION:2.0
PRODID:Carson City Calendar Creator
METHOD:PUBLISH
BEGIN:VEVENT
DTSTAMP:20240731T153026
DTSTART:20240921T100000
DTEND:20240921T120000
SUMMARY:Volunteer Opportunity - Sand Canyon Clean Up
DESCRIPTION:The Carson City Parks, Recreation &amp; Open Space Department will be hosting a Sand Canyon Clean Up for the fourth year in a row! We have hosted large effort clean-ups in the Sand Canyon area over the past 3 years to address the ongoing dumping that occurs typically in the summer.<div></div><div>This year we will be hosting the clean-up on Saturday September 21st from 10:00am-12:00pm. Volunteers and staff will meet in the main Sand Canyon parking lot located at&nbsp;<a href="http://4999%20sierra%20vista%20ln,%20carson%20city,%20nv%2089701/" target="_self">4999 Sierra Vista Ln, Carson City, NV 89701</a>.</div><div></div><div>Tools and gloves will be provided. Close toed shoes, long pants, long sleeve shirt, and a hat recommended for sun and brush protection.</div><div></div><div>Registration strongly recommended so that we may bring enough tools and staff - register today!</div><p><a href="https://anc.apm.activecommunities.com/ccpr/activity/search/detail/9043?onlineSiteId=0&amp;locale=en-US&amp;from_original_cui=true">Activity detail | City of Carson City Online Services (activecommunities.com)</a></p>
X-ALT-DESC;FMTTYPE=text/html:The Carson City Parks, Recreation &amp; Open Space Department will be hosting a Sand Canyon Clean Up for the fourth year in a row! We have hosted large effort clean-ups in the Sand Canyon area over the past 3 years to address the ongoing dumping that occurs typically in the summer.<div></div><div>This year we will be hosting the clean-up on Saturday September 21st from 10:00am-12:00pm. Volunteers and staff will meet in the main Sand Canyon parking lot located at&nbsp;<a href="http://4999%20sierra%20vista%20ln,%20carson%20city,%20nv%2089701/" target="_self">4999 Sierra Vista Ln, Carson City, NV 89701</a>.</div><div></div><div>Tools and gloves will be provided. Close toed shoes, long pants, long sleeve shirt, and a hat recommended for sun and brush protection.</div><div></div><div>Registration strongly recommended so that we may bring enough tools and staff - register today!</div><p><a href="https://anc.apm.activecommunities.com/ccpr/activity/search/detail/9043?onlineSiteId=0&amp;locale=en-US&amp;from_original_cui=true">Activity detail | City of Carson City Online Services (activecommunities.com)</a></p>
LOCATION:
CLASS:PUBLIC
END:VEVENT
END:VCALENDAR
